BEGIN:VCALENDAR
VERSION:2.0
PRODID:-//The Barker Mansion//EN
BEGIN:VEVENT
UID:69e89c5666bda@barkermansion.org
DTSTAMP:20260422T100054Z
DTSTART:20251212T180000
DTEND:20251212T200000
SUMMARY:Christmas Candlelight Tour at The Barker Mansion
DESCRIPTION:Get more info: https://barkermansion.org/events/christmas-candlelight-tour-at-the-barker-mansion-2/
LOCATION:The Barker Mansion\n631 Washington St\, Michigan City\, IN\, US
X-APPLE-STRUCTURED-LOCATION;VALUE=URI;X-ADDRESS="631 Washington St\, Michigan City\, IN\, US";X-APPLE-RADIUS=141.1749368727725;X-TITLE=The Barker Mansion
END:VEVENT
END:VCALENDAR
