BEGIN:VCALENDAR
VERSION:2.0
PRODID:-//The Barker Mansion//EN
BEGIN:VEVENT
UID:69e8c86c33982@barkermansion.org
DTSTAMP:20260422T130900Z
DTSTART:20260624T100000
DTEND:20260624T170000
SUMMARY:General Admission
DESCRIPTION:Get more info: https://barkermansion.org/events/general-admission-6-24-2026/
LOCATION:The Barker Mansion\n631 Washington St\, Michigan City\, IN\, US
X-APPLE-STRUCTURED-LOCATION;VALUE=URI;X-ADDRESS="631 Washington St\, Michigan City\, IN\, US";X-APPLE-RADIUS=141.1749368727725;X-TITLE=The Barker Mansion
END:VEVENT
END:VCALENDAR
