BEGIN:VCALENDAR
VERSION:2.0
PRODID:-//The Barker Mansion//EN
BEGIN:VEVENT
UID:69e94760c0979@barkermansion.org
DTSTAMP:20260422T221040Z
DTSTART:20260818T100000
DTEND:20260818T170000
SUMMARY:General Admission
DESCRIPTION:Get more info: https://barkermansion.org/events/general-admission-8-18-2026/
LOCATION:The Barker Mansion\n631 Washington St\, Michigan City\, IN\, US
X-APPLE-STRUCTURED-LOCATION;VALUE=URI;X-ADDRESS="631 Washington St\, Michigan City\, IN\, US";X-APPLE-RADIUS=141.1749368727725;X-TITLE=The Barker Mansion
END:VEVENT
END:VCALENDAR
