BEGIN:VCALENDAR
VERSION:2.0
PRODID:-//The Barker Mansion//EN
BEGIN:VEVENT
UID:69e9448f52673@barkermansion.org
DTSTAMP:20260422T215839Z
DTSTART:20260815T130000
DTEND:20260815T141500
SUMMARY:Guided Tour
DESCRIPTION:Get more info: https://barkermansion.org/events/guided-tour-8-15-2026/
LOCATION:The Barker Mansion\n631 Washington St\, Michigan City\, IN\, US
X-APPLE-STRUCTURED-LOCATION;VALUE=URI;X-ADDRESS="631 Washington St\, Michigan City\, IN\, US";X-APPLE-RADIUS=141.1749368727725;X-TITLE=The Barker Mansion
END:VEVENT
END:VCALENDAR
