BEGIN:VCALENDAR
VERSION:2.0
PRODID:-//The Barker Mansion//EN
BEGIN:VEVENT
UID:69e89e68561cd@barkermansion.org
DTSTAMP:20260422T100944Z
DTSTART:20251206T130000
DTEND:20251206T160000
SUMMARY:Holiday Tea at The Barker Mansion
DESCRIPTION:Get more info: https://barkermansion.org/events/holiday-tea-at-the-barker-mansion/
LOCATION:The Barker Mansion\n631 Washington St\, Michigan City\, IN\, US
X-APPLE-STRUCTURED-LOCATION;VALUE=URI;X-ADDRESS="631 Washington St\, Michigan City\, IN\, US";X-APPLE-RADIUS=141.1749368727725;X-TITLE=The Barker Mansion
END:VEVENT
END:VCALENDAR
